BEGIN:VCALENDAR
VERSION:2.0
PRODID:-//hacksw/handcal//NONSGML v1.0//EN
CALSCALE:GREGORIAN
BEGIN:VEVENT
UID:230
DTSTAMP:20260420T032043Z
DESCRIPTION:Hilton Garden Inn\, 720 Eagleview Blvd.\, Exton\, PA 19341
DTSTART:20260517T150000Z
DTEND:20260517T190000Z
LOCATION:
SUMMARY:A Whole New World of Magical Pins\, Exton\, PA\, May 17\, 2026
URL;VALUE=URI:https://www.disneypinforum.com/events/a-whole-new-world-of-magical-pins-exton-pa-may-17-2026.230/
END:VEVENT
END:VCALENDAR