BEGIN:VCALENDAR
VERSION:2.0
PRODID:-//hacksw/handcal//NONSGML v1.0//EN
CALSCALE:GREGORIAN
BEGIN:VEVENT
UID:238
DTSTAMP:20260425T151212Z
DESCRIPTION:Holiday Inn Disney Springs\, 1805 Hotel Plaza Blvd\, Lake Buena Vista\, FL
DTSTART:20260516T130000Z
DTEND:20260516T210000Z
LOCATION:
SUMMARY:Disney Pin Collectors Society\, May 16\, 2026\, Lake Buena Vista
URL;VALUE=URI:https://www.disneypinforum.com/events/disney-pin-collectors-society-may-16-2026-lake-buena-vista.238/
END:VEVENT
END:VCALENDAR