BEGIN:VCALENDAR
VERSION:2.0
PRODID:-//hacksw/handcal//NONSGML v1.0//EN
CALSCALE:GREGORIAN
BEGIN:VEVENT
UID:236
DTSTAMP:20260424T212640Z
DESCRIPTION:Mr. Beef and Pizza\, 1796 Elmhurst Road\, Mount Prospect\, Illinois 60056
DTSTART:20260509T160000Z
DTEND:20260509T200000Z
LOCATION:
SUMMARY:Windy City Pin Traders\, May 9\, 2026
URL;VALUE=URI:https://www.disneypinforum.com/events/windy-city-pin-traders-may-9-2026.236/
END:VEVENT
END:VCALENDAR